BEGIN:VCALENDAR
VERSION:2.0
PRODID:-//ChamberMaster//Event Calendar 2.0//EN
METHOD:PUBLISH
X-PUBLISHED-TTL:P1H
REFRESH-INTERVAL:P1H
CALSCALE:GREGORIAN
BEGIN:VTIMEZONE
TZID:America/New_York
BEGIN:DAYLIGHT
RRULE:FREQ=YEARLY;BYMONTH=3;BYDAY=2SU
DTSTART:20070101T000000
TZOFFSETFROM:-0500
TZOFFSETTO:-0400
TZNAME:Eastern Daylight Time
END:DAYLIGHT
BEGIN:STANDARD
RRULE:FREQ=YEARLY;BYMONTH=11;BYDAY=1SU
DTSTART:20070101T000000
TZOFFSETFROM:-0400
TZOFFSETTO:-0500
TZNAME:Eastern Standard Time
END:STANDARD
END:VTIMEZONE
BEGIN:VEVENT
DTSTART;TZID=America/New_York:20260512T083000
DTEND;TZID=America/New_York:20260512T160000
X-MICROSOFT-CDO-ALLDAYEVENT:FALSE
SUMMARY:MCDD Training 05/12/2026
DESCRIPTION:Known as Michigan's skid pad\, MTA Center for Decision Driving (MCDD) teaches professional truck drivers defensive-driving techniques both in the classroom and behind the wheel on the facility's skid course.The pad is located at Eaton Corporation's Proving Grounds in Marshall\, MI.Pre-registration is required. Training is administered by Michigan Trucking Association safety professionals.InstructionClassroomIn-class training teaches drivers basic types of vehicle crashes\, their causes\, decision-driving principals and an overview of the skid pad.Skid PadDrivers practice maneuvering techniques on both wet and dry pavement.  They are then evaluated on their ability to make dynamic driving decisions when confronted with potential accident situations.
X-ALT-DESC;FMTTYPE=text/html:<!DOCTYPE html><html><head><title></title></head><body aria-disabled="false"><div data-node="oyv28lcsg375" style="box-sizing: border-box\; color: rgb(85\, 85\, 85)\; font-family: Oxygen\, sans-serif\; font-size: 16px\; font-style: normal\; font-variant-ligatures: normal\; font-variant-caps: normal\; font-weight: 400\; letter-spacing: normal\; orphans: 2\; text-align: start\; text-indent: 0px\; text-transform: none\; widows: 2\; word-spacing: 0px\; -webkit-text-stroke-width: 0px\; white-space: normal\; background-color: rgb(243\, 243\, 243)\; text-decoration-thickness: initial\; text-decoration-style: initial\; text-decoration-color: initial\;"><div style="box-sizing: border-box\; margin: 0px 20px\;"><div data-node="qj196oybpe4n" style="box-sizing: border-box\; color: rgb(85\, 85\, 85)\; font-family: Oxygen\, sans-serif\; font-size: 16px\; font-style: normal\; font-variant-ligatures: normal\; font-variant-caps: normal\; font-weight: 400\; letter-spacing: normal\; orphans: 2\; text-align: start\; text-indent: 0px\; text-transform: none\; widows: 2\; word-spacing: 0px\; -webkit-text-stroke-width: 0px\; white-space: normal\; background-color: rgb(243\, 243\, 243)\; text-decoration-thickness: initial\; text-decoration-style: initial\; text-decoration-color: initial\;"><div style="box-sizing: border-box\; margin: 10px 20px 0px\;"><div style="box-sizing: border-box\; font-weight: 400\; color: rgb(10\, 0\, 1)\;"><p style="box-sizing: border-box\; margin: 0px 0px 10px\; font-weight: 400\; color: rgb(10\, 0\, 1)\; text-align: left\;"><span style="font-family: Arial\, Helvetica\, sans-serif\; font-size: 14px\;">Known as Michigan&#39\;s skid pad\, MTA Center for Decision Driving (MCDD) teaches professional truck drivers defensive-driving techniques both in the classroom and behind the wheel on the facility&#39\;s skid course.</span></p></div></div></div></div></div><div data-node="914nq85ouxpd" style="box-sizing: border-box\; color: rgb(85\, 85\, 85)\; font-family: Oxygen\, sans-serif\; font-size: 16px\; font-style: normal\; font-variant-ligatures: normal\; font-variant-caps: normal\; font-weight: 400\; letter-spacing: normal\; orphans: 2\; text-align: start\; text-indent: 0px\; text-transform: none\; widows: 2\; word-spacing: 0px\; -webkit-text-stroke-width: 0px\; white-space: normal\; background-color: rgb(243\, 243\, 243)\; text-decoration-thickness: initial\; text-decoration-style: initial\; text-decoration-color: initial\;"><div style="box-sizing: border-box\; margin: 10px 20px 20px\;"><div style="box-sizing: border-box\; color: rgb(10\, 0\, 1)\;"><div data-node="qj196oybpe4n" style="box-sizing: border-box\; color: rgb(85\, 85\, 85)\; font-family: Oxygen\, sans-serif\; font-size: 16px\; font-style: normal\; font-variant-ligatures: normal\; font-variant-caps: normal\; font-weight: 400\; letter-spacing: normal\; orphans: 2\; text-align: start\; text-indent: 0px\; text-transform: none\; widows: 2\; word-spacing: 0px\; -webkit-text-stroke-width: 0px\; white-space: normal\; background-color: rgb(243\, 243\, 243)\; text-decoration-thickness: initial\; text-decoration-style: initial\; text-decoration-color: initial\;"><div style="box-sizing: border-box\; margin: 10px 20px 0px\;"><p style="box-sizing: border-box\; margin: 0px 0px 10px\; color: rgb(10\, 0\, 1)\; text-align: left\;"><span style="font-size: 14px\;"><span style="font-family: Arial\,Helvetica\,sans-serif\;">The pad is located at Eaton Corporation&#39\;s Proving Grounds in Marshall\, MI.</span></span></p></div></div><div data-node="x9z24v3ogrcf" style="box-sizing: border-box\; color: rgb(85\, 85\, 85)\; font-family: Oxygen\, sans-serif\; font-size: 16px\; font-style: normal\; font-variant-ligatures: normal\; font-variant-caps: normal\; font-weight: 400\; letter-spacing: normal\; orphans: 2\; text-align: left\; text-indent: 0px\; text-transform: none\; widows: 2\; word-spacing: 0px\; -webkit-text-stroke-width: 0px\; white-space: normal\; background-color: rgb(243\, 243\, 243)\; text-decoration-thickness: initial\; text-decoration-style: initial\; text-decoration-color: initial\;"><div style="box-sizing: border-box\; margin: 0px 20px 10px\;"><div style="box-sizing: border-box\; color: rgb(10\, 0\, 1)\;"><p style="box-sizing: border-box\; margin: 0px 0px 10px\; color: rgb(10\, 0\, 1)\; text-align: left\;"><span style="font-family: Arial\, Helvetica\, sans-serif\; font-size: 14px\;">Pre-registration is required. Training is administered by Michigan Trucking Association safety professionals.</span></p></div></div></div><h4 style="box-sizing: border-box\; font-family: Oswald\, sans-serif\; font-weight: 400\; line-height: 1.4\; color: rgb(85\, 85\, 85)\; margin: 0px !important\; font-size: 24px\; text-transform: capitalize\; font-style: normal\; letter-spacing: 0px\; padding: 0px !important\;"><span style="box-sizing: border-box\; color: rgb(13\, 176\, 43)\; font-family: Arial\, Helvetica\, sans-serif\; font-size: 18px\;">Instruction</span></h4><ul fr-original-style="" style="list-style-position: inside\;"><li><strong fr-original-style="box-sizing: border-box\; font-weight: bold\; color: rgb(10\, 0\, 1)\;" style="box-sizing: border-box\; font-weight: bold\; color: rgb(10\, 0\, 1)\;">Classroom</strong></li></ul><p style="box-sizing: border-box\; margin: 0px 0px 10px\; color: rgb(10\, 0\, 1)\;"><span style="font-size: 14px\;"><span style="font-family: Arial\,Helvetica\,sans-serif\;">In-class training teaches drivers basic types of vehicle crashes\, their causes\, decision-driving principals and an overview of the skid pad.</span></span></p><ul fr-original-style="" style="list-style-position: inside\;"><li><strong fr-original-style="box-sizing: border-box\; font-weight: bold\; color: rgb(10\, 0\, 1)\;" style="box-sizing: border-box\; font-weight: bold\; color: rgb(10\, 0\, 1)\;">Skid Pad</strong></li></ul><p style="box-sizing: border-box\; margin: 0px 0px 10px\; color: rgb(10\, 0\, 1)\;"><span style="font-family: Arial\, Helvetica\, sans-serif\; font-size: 14px\;">Drivers practice maneuvering techniques on both wet and dry pavement. &nbsp\;They are then evaluated on their ability to make dynamic driving decisions when confronted with potential accident situations.</span></p></div></div></div></body></html>
LOCATION:19218 B Drive South Marshall MI 49068
UID:e.3022.1437920
SEQUENCE:3
DTSTAMP:20260419T144210Z
URL:https://members.mitrucking.org/events/Details/mcdd-training-05-12-2026-1701934?sourceTypeId=Hub
END:VEVENT
END:VCALENDAR
